Workbook
Name ___LPB1: [1]부하계산서!#REF!
Name ___LPB1: [1]부하계산서!#REF!
Name ___LPB1: [1]부하계산서!#REF!
Name ___LPB1: [1]부하계산서!#REF!
Name ___LPK1: [1]부하계산서!#REF!
Name ___LPK1: [1]부하계산서!#REF!
Name ___LPK1: [1]부하계산서!#REF!
Name ___LPK1: [1]부하계산서!#REF!
Name ___LU1: '[2]부하(성남)'!#REF!
Name ___LU1: '[2]부하(성남)'!#REF!
Name ___LU1: '[2]부하(성남)'!#REF!
Name ___LU1: '[2]부하(성남)'!#REF!
Name ___LU2: '[2]부하(성남)'!#REF!
Name ___LU2: '[2]부하(성남)'!#REF!
Name ___LU2: '[2]부하(성남)'!#REF!
Name ___LU2: '[2]부하(성남)'!#REF!
Name ___LV01: '[2]부하(성남)'!#REF!
Name ___LV01: '[2]부하(성남)'!#REF!
Name ___LV01: '[2]부하(성남)'!#REF!
Name ___LV01: '[2]부하(성남)'!#REF!
Name ___UP1: [1]부하계산서!#REF!
Name ___UP1: [1]부하계산서!#REF!
Name ___UP1: [1]부하계산서!#REF!
Name ___UP1: [1]부하계산서!#REF!
Name ___UP2: [1]부하계산서!#REF!
Name ___UP2: [1]부하계산서!#REF!
Name ___UP2: [1]부하계산서!#REF!
Name ___UP2: [1]부하계산서!#REF!
Name __LP2: #REF!
Name __LP2: #REF!
Name __LP2: #REF!
Name __LP2: #REF!
Name __LPB1: [1]부하계산서!#REF!
Name __LPB1: [1]부하계산서!#REF!
Name __LPB1: [1]부하계산서!#REF!
Name __LPB1: [1]부하계산서!#REF!
Name __LPK1: [1]부하계산서!#REF!
Name __LPK1: [1]부하계산서!#REF!
Name __LPK1: [1]부하계산서!#REF!
Name __LPK1: [1]부하계산서!#REF!
Name __LU1: '[2]부하(성남)'!#REF!
Name __LU1: '[2]부하(성남)'!#REF!
Name __LU1: '[2]부하(성남)'!#REF!
Name __LU1: '[2]부하(성남)'!#REF!
Name __LU2: '[2]부하(성남)'!#REF!
Name __LU2: '[2]부하(성남)'!#REF!
Name __LU2: '[2]부하(성남)'!#REF!
Name __LU2: '[2]부하(성남)'!#REF!
Name __LV01: '[2]부하(성남)'!#REF!
Name __LV01: '[2]부하(성남)'!#REF!
Name __LV01: '[2]부하(성남)'!#REF!
Name __LV01: '[2]부하(성남)'!#REF!
Name __UP1: [1]부하계산서!#REF!
Name __UP1: [1]부하계산서!#REF!
Name __UP1: [1]부하계산서!#REF!
Name __UP1: [1]부하계산서!#REF!
Name __UP2: [1]부하계산서!#REF!
Name __UP2: [1]부하계산서!#REF!
Name __UP2: [1]부하계산서!#REF!
Name __UP2: [1]부하계산서!#REF!

Sheet 설계서용지
A1: 설 계 서 용 지
A2: 확 인 | E2: 설 계 자 | H2: 2026년 4월 일 설 계
A4: 2026학년도
C6: 공 사 명 : | F6: =건축_내역!P2 -> 행소관 주변 옥외계단 난간 설치
C8: 설계공사금액 : | F8: =원가계산서!D27 -> 0 | G8: =F8 -> 0

Sheet 집계표
A1: 내 역 서
A2: ="공 사 명: "&P2 -> 공 사 명: 모빌리티캠퍼스 연구동 201호, 202호 공간조정 공사 | O2: 공사명입력: | P2: 모빌리티캠퍼스 연구동 201호, 202호 공간조정 공사
A3: 구 분 | C3: 단 위 | D3: 수 량 | E3: 재 료 비 | G3: 노 무 비 | I3: 경 비 | K3: 계 | M3: 비 고
E4: 단 가 | F4: 금 액 | G4: 단 가 | H4: 금 액 | I4: 단 가 | J4: 금 액 | K4: 단 가 | L4: 금 액 | O4: 확 인
A5: 건축공사 | L5: =원가계산서!D27 -> 0
A6: 기계설비공사 | L6: ='원가(약식)'!L21 -> 16500000
A7: 전기공사 | L7: 7640000
A18: 합 계 | L18: =SUM(L5:L17) -> 24140000

Sheet 원가계산서
A1: 공 사 원 가 계 산 서
A2: 공사명: | B2: =건축_내역!P2 -> 행소관 주변 옥외계단 난간 설치
D3: 금액 | E3: 요율 | F3: 구성비 | G3: 비고
A4: 순 공 사 비 | B4: 재료비 | C4: 직접재료비 | D4: =건축_내역!F55 -> 0
C5: 간접재료비
C6: 작업부산물(△)
C7: 소 계 | D7: =SUM(D4:D6) -> 0
B8: 노무비 | C8: 직접노무비 | D8: =건축_내역!H55 -> 0
C9: 간접노무비 | D9: =INT(D8*E9) -> 0 | E9: 0.15 | F9: =IF(E9>0," 직접노무비 × "&E9," ") -> 직접노무비 × 0.15
C10: 소 계 | D10: =SUM(D8:D9) -> 0
B11: 경 비 | C11: 기계경비 | D11: =건축_내역!J55 -> 0
C12: 산재보험료 | D12: =INT(D10*E12) -> 0 | E12: 0.0356 | F12: =IF(E12>0," 노무비 × "&E12," ") -> 노무비 × 0.0356
C13: 고용보험료 | D13: =INT(D8*E13) -> 0 | E13: 0.0101 | F13: =IF(E13>0," 직접노무비 × "&E13," ") -> 직접노무비 × 0.0101
C14: 건강보험료 | E14: 0.03595 | F14: =IF(E14>0," 직접노무비 × "&E14," ") -> 직접노무비 × 0.03595
C15: 연금보험료 | E15: 0.0475 | F15: =IF(E15>0," 직접노무비 × "&E15," ") -> 직접노무비 × 0.0475
C16: 노인장기요양보험료 | E16: 0.1314 | F16: =IF(E16>0," 건강보험료 × "&E16," ") -> 건강보험료 × 0.1314
C17: 퇴직공제부금비 | D17: =IF(E17>0,INT(D8*E17),0) -> 0 | F17: =IF(E17>0," 직접노무비 × "&E17," ")
C18: 안전관리비 | D18: 1538952 | E18: 0.0311 | F18: =IF(E18>0," (재료비 + 직접노무비) × "&E18," ") -> (재료비 + 직접노무비) × 0.0311
C19: 환경보전비 | D19: =INT((D7+D8+D11)*E19) -> 0 | E19: 0.003 | F19: =IF(E19>0," (재료비 + 직접노무비 + 기계경비) × "&E19," ") -> (재료비 + 직접노무비 + 기계경비) × 0.003
C20: 기타경비 | D20: =INT((D7+D10)*E20) -> 0 | E20: 0.046 | F20: =IF(E20>0," (재료비 + 노무비) × "&E20," ") -> (재료비 + 노무비) × 0.046
C21: 소 계
A22: 합 계 | D22: =D7+D10+D21 -> 0
A23: 일반관리비 | D23: =INT(D22*E23) -> 0 | E23: 0.08 | F23: =IF(E23>0," 합 계 × "&E23," ") -> 합 계 × 0.08
A24: 이 윤 | D24: =INT((D10+D21+D23)*E24) -> 0 | E24: 0.1 | F24: =IF(E24>0," (노무비 + 경비 + 일반관리비) × "&E24," ") -> (노무비 + 경비 + 일반관리비) × 0.1
A25: 총 원 가 | D25: =SUM(D22:D24) -> 0
A26: 부가가치세 | D26: =INT(D25*E26) -> 0 | E26: 0.1 | F26: =" 총 원 가 × "&E26 -> 총 원 가 × 0.1
A27: 총 공 사 비 | D27: =SUM(D25:D26) -> 0

Sheet 건축_내역
A1: 내 역 서
A2: ="공 사 명: "&P2 -> 공 사 명: 행소관 주변 옥외계단 난간 설치 | O2: 공사명입력: | P2: 행소관 주변 옥외계단 난간 설치
A3: 명 칭 | B3: 규 격 | C3: 단 위 | D3: 수 량 | E3: 재 료 비 | G3: 노 무 비 | I3: 경 비 | K3: 계 | M3: 비 고
E4: 단 가 | F4: 금 액 | G4: 단 가 | H4: 금 액 | I4: 단 가 | J4: 금 액 | K4: 단 가 | L4: 금 액 | O4: 확 인
A5: 1. 행소관 북편 | F5: =SUM(F6:F12) -> 0 | H5: =SUM(H6:H12) -> 0 | J5: =SUM(J6:J12) -> 0 | L5: =SUM(L6:L12) -> 0 | O5: =F5+H5+J5 -> 0 | P5: =IF(L5=O5,"O.K","N.G…!!!") -> O.K
A6: 기둥(난간동자) | B6: SST, 8T, 850H | C6: ea | D6: 100 | F6: =$D6*E6 -> 0 | H6: =$D6*G6 -> 0 | J6: =$D6*I6 -> 0 | K6: =E6+G6+I6 -> 0 | L6: =F6+H6+J6 -> 0 | M6: 레이저가공
A7: 상부 손스침 | B7: SST, 38Φ, 1.5t | C7: m | D7: 120 | F7: =$D7*E7 -> 0 | H7: =$D7*G7 -> 0 | J7: =$D7*I7 -> 0 | K7: =E7+G7+I7 -> 0 | L7: =F7+H7+J7 -> 0
A8: 간살 | B8: SST, 16Φ, 1.5t | C8: m | D8: 336 | F8: =$D8*E8 -> 0 | H8: =$D8*G8 -> 0 | J8: =$D8*I8 -> 0 | K8: =E8+G8+I8 -> 0 | L8: =F8+H8+J8 -> 0
A9: 베이스플레이트 | B9: SST, 120*100*12t | C9: ea | D9: 100 | F9: =$D9*E9 -> 0 | H9: =$D9*G9 -> 0 | J9: =$D9*I9 -> 0 | K9: =E9+G9+I9 -> 0 | L9: =F9+H9+J9 -> 0 | M9: 레이저가공
A10: 앙카볼트, 너트 | B10: L=120이상 | C10: ea | D10: 200 | F10: =$D10*E10 -> 0 | H10: =$D10*G10 -> 0 | J10: =$D10*I10 -> 0 | K10: =E10+G10+I10 -> 0 | L10: =F10+H10+J10 -> 0
A11: 장애인점자 | B11: SST | C11: ea | D11: 8 | F11: =$D11*E11 -> 0 | H11: =$D11*G11 -> 0 | J11: =$D11*I11 -> 0 | K11: =E11+G11+I11 -> 0 | L11: =F11+H11+J11 -> 0
A12: 설치 | B12: 알곤용접 등 | C12: 인 | D12: 12 | F12: =$D12*E12 -> 0 | H12: =$D12*G12 -> 0 | J12: =$D12*I12 -> 0 | K12: =E12+G12+I12 -> 0 | L12: =F12+H12+J12 -> 0
A14: 2. 행소관 동편 | F14: =SUM(F15:F21) -> 0 | H14: =SUM(H15:H21) -> 0 | J14: =SUM(J15:J21) -> 0 | L14: =SUM(L15:L21) -> 0
A15: 기둥(난간동자) | B15: SST, 8T, 850H | C15: ea | D15: 39 | F15: =$D15*E15 -> 0 | H15: =$D15*G15 -> 0 | J15: =$D15*I15 -> 0 | K15: =E15+G15+I15 -> 0 | L15: =F15+H15+J15 -> 0 | M15: 레이저가공
A16: 상부 손스침 | B16: SST, 38Φ, 1.5t | C16: m | D16: 42 | F16: =$D16*E16 -> 0 | H16: =$D16*G16 -> 0 | J16: =$D16*I16 -> 0 | K16: =E16+G16+I16 -> 0 | L16: =F16+H16+J16 -> 0
A17: 간살 | B17: SST, 16Φ, 1.5t | C17: m | D17: 126 | F17: =$D17*E17 -> 0 | H17: =$D17*G17 -> 0 | J17: =$D17*I17 -> 0 | K17: =E17+G17+I17 -> 0 | L17: =F17+H17+J17 -> 0
A18: 베이스플레이트 | B18: SST, 120*100*12t | C18: ea | D18: 39 | F18: =$D18*E18 -> 0 | H18: =$D18*G18 -> 0 | J18: =$D18*I18 -> 0 | K18: =E18+G18+I18 -> 0 | L18: =F18+H18+J18 -> 0 | M18: 레이저가공
A19: 앙카볼트, 너트 | B19: L=120이상 | C19: ea | D19: 78 | F19: =$D19*E19 -> 0 | H19: =$D19*G19 -> 0 | J19: =$D19*I19 -> 0 | K19: =E19+G19+I19 -> 0 | L19: =F19+H19+J19 -> 0
A20: 장애인점자 | B20: SST | C20: ea | D20: 4 | F20: =$D20*E20 -> 0 | H20: =$D20*G20 -> 0 | J20: =$D20*I20 -> 0 | K20: =E20+G20+I20 -> 0 | L20: =F20+H20+J20 -> 0
A21: 설치 | B21: 알곤용접 등 | C21: 인 | D21: 6 | F21: =$D21*E21 -> 0 | H21: =$D21*G21 -> 0 | J21: =$D21*I21 -> 0 | K21: =E21+G21+I21 -> 0 | L21: =F21+H21+J21 -> 0
A23: 3. 행소관 서편 | F23: =SUM(F24:F30) -> 0 | H23: =SUM(H24:H30) -> 0 | J23: =SUM(J24:J30) -> 0 | L23: =SUM(L24:L30) -> 0
A24: 기둥(난간동자) | B24: SST, 8T, 850H | C24: ea | D24: 26 | F24: =$D24*E24 -> 0 | H24: =$D24*G24 -> 0 | J24: =$D24*I24 -> 0 | K24: =E24+G24+I24 -> 0 | L24: =F24+H24+J24 -> 0 | M24: 레이저가공
A25: 상부 손스침 | B25: SST, 38Φ, 1.5t | C25: m | D25: 27 | F25: =$D25*E25 -> 0 | H25: =$D25*G25 -> 0 | J25: =$D25*I25 -> 0 | K25: =E25+G25+I25 -> 0 | L25: =F25+H25+J25 -> 0
A26: 간살 | B26: SST, 16Φ, 1.5t | C26: m | D26: 81 | F26: =$D26*E26 -> 0 | H26: =$D26*G26 -> 0 | J26: =$D26*I26 -> 0 | K26: =E26+G26+I26 -> 0 | L26: =F26+H26+J26 -> 0
A27: 베이스플레이트 | B27: SST, 120*100*12t | C27: ea | D27: 26 | F27: =$D27*E27 -> 0 | H27: =$D27*G27 -> 0 | J27: =$D27*I27 -> 0 | K27: =E27+G27+I27 -> 0 | L27: =F27+H27+J27 -> 0 | M27: 레이저가공
A28: 앙카볼트, 너트 | B28: L=120이상 | C28: ea | D28: 52 | F28: =$D28*E28 -> 0 | H28: =$D28*G28 -> 0 | J28: =$D28*I28 -> 0 | K28: =E28+G28+I28 -> 0 | L28: =F28+H28+J28 -> 0
A29: 장애인점자 | B29: SST | C29: ea | D29: 4 | F29: =$D29*E29 -> 0 | H29: =$D29*G29 -> 0 | J29: =$D29*I29 -> 0 | K29: =E29+G29+I29 -> 0 | L29: =F29+H29+J29 -> 0
A30: 설치 | B30: 알곤용접 등 | C30: 인 | D30: 6 | F30: =$D30*E30 -> 0 | H30: =$D30*G30 -> 0 | J30: =$D30*I30 -> 0 | K30: =E30+G30+I30 -> 0 | L30: =F30+H30+J30 -> 0
A32: 4. 행소관 남편 | F32: =SUM(F33:F39) -> 0 | H32: =SUM(H33:H39) -> 0 | J32: =SUM(J33:J39) -> 0 | L32: =SUM(L33:L39) -> 0
A33: 기둥(난간동자) | B33: SST, 8T, 850H | C33: ea | D33: 66 | F33: =$D33*E33 -> 0 | H33: =$D33*G33 -> 0 | J33: =$D33*I33 -> 0 | K33: =E33+G33+I33 -> 0 | L33: =F33+H33+J33 -> 0 | M33: 레이저가공
A34: 상부 손스침 | B34: SST, 38Φ, 1.5t | C34: m | D34: 59 | F34: =$D34*E34 -> 0 | H34: =$D34*G34 -> 0 | J34: =$D34*I34 -> 0 | K34: =E34+G34+I34 -> 0 | L34: =F34+H34+J34 -> 0
A35: 간살 | B35: SST, 16Φ, 1.5t | C35: m | D35: 171 | F35: =$D35*E35 -> 0 | H35: =$D35*G35 -> 0 | J35: =$D35*I35 -> 0 | K35: =E35+G35+I35 -> 0 | L35: =F35+H35+J35 -> 0
A36: 베이스플레이트 | B36: SST, 120*100*12t | C36: ea | D36: 66 | F36: =$D36*E36 -> 0 | H36: =$D36*G36 -> 0 | J36: =$D36*I36 -> 0 | K36: =E36+G36+I36 -> 0 | L36: =F36+H36+J36 -> 0 | M36: 레이저가공
A37: 앙카볼트, 너트 | B37: L=120이상 | C37: ea | D37: 132 | F37: =$D37*E37 -> 0 | H37: =$D37*G37 -> 0 | J37: =$D37*I37 -> 0 | K37: =E37+G37+I37 -> 0 | L37: =F37+H37+J37 -> 0
A38: 장애인점자 | B38: SST | C38: ea | D38: 12 | F38: =$D38*E38 -> 0 | H38: =$D38*G38 -> 0 | J38: =$D38*I38 -> 0 | K38: =E38+G38+I38 -> 0 | L38: =F38+H38+J38 -> 0
A39: 설치 | B39: 알곤용접 등 | C39: 인 | D39: 10 | F39: =$D39*E39 -> 0 | H39: =$D39*G39 -> 0 | J39: =$D39*I39 -> 0 | K39: =E39+G39+I39 -> 0 | L39: =F39+H39+J39 -> 0
A41: 5. 가설공사 | F41: =SUM(F42:F44) -> 0 | H41: =SUM(H42:H44) -> 0 | J41: =SUM(J42:J44) -> 0 | L41: =SUM(L42:L44) -> 0 | O41: =F41+H41+J41 -> 0 | P41: =IF(L41=O41,"O.K","N.G…!!!") -> O.K
A42: 잡자재비 등 | C42: 식 | D42: 1 | F42: =$D42*E42 -> 0 | H42: =$D42*G42 -> 0 | J42: =$D42*I42 -> 0 | K42: =E42+G42+I42 -> 0 | L42: =F42+H42+J42 -> 0
A43: 현장정리 | C43: 식 | D43: 1 | F43: =$D43*E43 -> 0 | H43: =$D43*G43 -> 0 | J43: =$D43*I43 -> 0 | K43: =E43+G43+I43 -> 0 | L43: =F43+H43+J43 -> 0
A44: 준공청소 | C44: 식 | D44: 1 | F44: =$D44*E44 -> 0 | H44: =$D44*G44 -> 0 | J44: =$D44*I44 -> 0 | K44: =E44+G44+I44 -> 0 | L44: =F44+H44+J44 -> 0
A55: 합 계 | F55: =F5+F14+F23+F32+F41 -> 0 | H55: =H5+H14+H23+H32+H41 -> 0 | J55: =J5+J14+J23+J32+J41 -> 0 | L55: =L5+L14+L23+L32+L41 -> 0 | O55: =SUM(F55:J55) -> 0 | P55: =IF(L55=O55,"O.K","N.G…!!!") -> O.K | Q55: 데크: | R55: =SUM(#REF!,#REF!,#REF!) -> #REF!

Sheet 원가(약식)
A1: 원 가 계 산 서
A2: ="공 사 명: "&기계설비_내역!P2 -> 공 사 명: 모빌리티캠퍼스 연구동 201호, 202호 공간조정 기계설비공사
A3: 명 칭 | B3: 규 격 | C3: 단 위 | D3: 수 량 | E3: 재 료 비 | G3: 노 무 비 | I3: 경 비 | K3: 계 | M3: 비 고
E4: 단 가 | F4: 금 액 | G4: 단 가 | H4: 금 액 | I4: 단 가 | J4: 금 액 | K4: 단 가 | L4: 금 액
A5: 순 공사비 | F5: =기계설비_내역!F72 -> 10551824 | H5: =기계설비_내역!H72 -> 3424540.4 | J5: =기계설비_내역!J72 -> 200000 | L5: =기계설비_내역!L72 -> 14176364
A7: 산재보험료 | B7: 노무비*3.56% | L7: =H5*0.0356 -> 121913.64
A8: 고용보험료 | B8: 노무비*1.01% | L8: =H5*0.0101 -> 34587.858
A9: 공과잡비 및 이윤 | B9: 0.05 | L9: =L5*B9 -> 708818.22
A11: 소 계 | L11: =SUM(L5:L10) -> 15041684
A19: 부가가치세 | B19: 0.1 | L19: =L11*B19 -> 1504168.4
A21: 합 계 | B21: 만단위절사 | L21: =ROUNDDOWN(L11+L19,-5) -> 16500000
L24: =L11+L19 -> 16545853

Sheet 기계설비_내역
A1: 내 역 서
A2: ="공 사 명: "&P2 -> 공 사 명: 모빌리티캠퍼스 연구동 201호, 202호 공간조정 기계설비공사 | O2: 공사명입력: | P2: 모빌리티캠퍼스 연구동 201호, 202호 공간조정 기계설비공사
A3: 명 칭 | B3: 규 격 | C3: 단 위 | D3: 수 량 | E3: 재 료 비 | G3: 노 무 비 | I3: 경 비 | K3: 계 | M3: 비 고
E4: 단 가 | F4: 금 액 | G4: 단 가 | H4: 금 액 | I4: 단 가 | J4: 금 액 | K4: 단 가 | L4: 금 액 | O4: 확 인
A5: 1. 세면기와 싱크대 설치 | F5: =SUM(F7:F43) -> 4469274 | H5: =SUM(H7:H43) -> 1626453 | J5: =SUM(J7:J43) -> 0 | L5: =SUM(L7:L43) -> 6095727 | O5: =F5+H5+J5 -> 6095727 | P5: =IF(L5=O5,"O.K","N.G…!!!") -> O.K
A6: 가. 재료비
A7: 싱크대(상판 인조대리석, 원홀수전) | B7: L:1200 | C7: EA | D7: 1 | E7: 1500000 | F7: =$D7*E7 -> 1500000 | H7: =$D7*G7 -> 0 | J7: =$D7*I7 -> 0 | K7: =E7+G7+I7 -> 1500000 | L7: =F7+H7+J7 -> 1500000
A8: 하부장형 세면기(수전 포함) | B8: 거울, 비누대, 수건걸이 등 포함 | C8: EA | D8: 2 | E8: 650000 | F8: =$D8*E8 -> 1300000 | H8: =$D8*G8 -> 0 | J8: =$D8*I8 -> 0 | K8: =E8+G8+I8 -> 650000 | L8: =F8+H8+J8 -> 1300000
A9: 전기온수기 | B9: 30리터 | C9: 대 | D9: 1 | E9: 350000 | F9: =$D9*E9 -> 350000 | H9: =$D9*G9 -> 0 | J9: =$D9*I9 -> 0 | K9: =E9+G9+I9 -> 350000 | L9: =F9+H9+J9 -> 350000
A10: 전기온수기 | B10: 15리터 | C10: 대 | D10: 1 | E10: 300000 | F10: =$D10*E10 -> 300000 | H10: =$D10*G10 -> 0 | J10: =$D10*I10 -> 0 | K10: =E10+G10+I10 -> 300000 | L10: =F10+H10+J10 -> 300000
A11: 스텐파이프(프레스형) | B11: 25A | C11: M | D11: 6 | E11: 6000 | F11: =$D11*E11 -> 36000 | H11: =$D11*G11 -> 0 | J11: =$D11*I11 -> 0 | K11: =E11+G11+I11 -> 6000 | L11: =F11+H11+J11 -> 36000
A12: 스텐파이프(프레스형) | B12: 20A | C12: M | D12: 7 | E12: 5000 | F12: =$D12*E12 -> 35000 | H12: =$D12*G12 -> 0 | J12: =$D12*I12 -> 0 | K12: =E12+G12+I12 -> 5000 | L12: =F12+H12+J12 -> 35000
A13: 스텐파이프(프레스형) | B13: 13A | C13: M | D13: 6 | E13: 3000 | F13: =$D13*E13 -> 18000 | H13: =$D13*G13 -> 0 | J13: =$D13*I13 -> 0 | K13: =E13+G13+I13 -> 3000 | L13: =F13+H13+J13 -> 18000
A14: 용접 티 | B14: 25A*20A | C14: EA | D14: 1 | E14: 7500 | F14: =$D14*E14 -> 7500 | H14: =$D14*G14 -> 0 | J14: =$D14*I14 -> 0 | K14: =E14+G14+I14 -> 7500 | L14: =F14+H14+J14 -> 7500
A15: 용접 티 | B15: 20A*15A | C15: EA | D15: 2 | E15: 7500 | F15: =$D15*E15 -> 15000 | H15: =$D15*G15 -> 0 | J15: =$D15*I15 -> 0 | K15: =E15+G15+I15 -> 7500 | L15: =F15+H15+J15 -> 15000
A16: 편닛플 | B16: 15A | C16: EA | D16: 2 | E16: 6500 | F16: =$D16*E16 -> 13000 | H16: =$D16*G16 -> 0 | J16: =$D16*I16 -> 0 | K16: =E16+G16+I16 -> 6500 | L16: =F16+H16+J16 -> 13000
A17: 편닛플 | B17: 20A | C17: EA | D17: 1 | E17: 8300 | F17: =$D17*E17 -> 8300 | H17: =$D17*G17 -> 0 | J17: =$D17*I17 -> 0 | K17: =E17+G17+I17 -> 8300 | L17: =F17+H17+J17 -> 8300
A18: SH-JOINT 티 | B18: 25A*13A | C18: EA | D18: 2 | E18: 8500 | F18: =$D18*E18 -> 17000 | H18: =$D18*G18 -> 0 | J18: =$D18*I18 -> 0 | K18: =E18+G18+I18 -> 8500 | L18: =F18+H18+J18 -> 17000
... A38: 잡재료비 | B38: - | C38: 식 | D38: 1 | E38: 19204 | F38: =$D38*E38 -> 19204 | H38: =$D38*G38 -> 0 | J38: =$D38*I38 -> 0 | K38: =E38+G38+I38 -> 19204 | L38: =F38+H38+J38 -> 19204
A39: 나. 노무비 | F39: =$D39*E39 -> 0 | H39: =$D39*G39 -> 0 | J39: =$D39*I39 -> 0 | K39: =E39+G39+I39 -> 0 | L39: =F39+H39+J39 -> 0
A40: 노무비 | B40: 배관공(수도) | C40: 인 | D40: 3 | F40: =$D40*E40 -> 0 | G40: 243168 | H40: =$D40*G40 -> 729504 | J40: =$D40*I40 -> 0 | K40: =E40+G40+I40 -> 243168 | L40: =F40+H40+J40 -> 729504
A41: 노무비 | B41: 용접공 | C41: 인 | D41: 2 | F41: =$D41*E41 -> 0 | G41: 267021 | H41: =$D41*G41 -> 534042 | J41: =$D41*I41 -> 0 | K41: =E41+G41+I41 -> 267021 | L41: =F41+H41+J41 -> 534042
A42: 노무비 | B42: 보통인부 | C42: 인 | D42: 2 | F42: =$D42*E42 -> 0 | G42: 165545 | H42: =$D42*G42 -> 331090 | J42: =$D42*I42 -> 0 | K42: =E42+G42+I42 -> 165545 | L42: =F42+H42+J42 -> 331090
A43: 공구손료 | B43: 노무비의 3% | C43: 식 | D43: 1 | F43: =$D43*E43 -> 0 | G43: 31817 | H43: =$D43*G43 -> 31817 | J43: =$D43*I43 -> 0 | K43: =E43+G43+I43 -> 31817 | L43: =F43+H43+J43 -> 31817
A45: 2. 냉난방 공사 | F45: =SUM(F47:F62) -> 6082550 | H45: =SUM(H47:H62) -> 1798087.4 | J45: =SUM(J47:J62) -> 200000 | L45: =SUM(L47:L62) -> 8080637.4 | O45: =F45+H45+J45 -> 8080637.4 | P45: =IF(L45=O45,"O.K","N.G…!!!") -> O.K
A46: 가. 재료비
A47: 실내기(1-WAY)-18평형 | B47: 냉방기준 7,200W | C47: 대 | D47: 2 | E47: 900000 | F47: =$D47*E47 -> 1800000 | H47: =$D47*G47 -> 0 | J47: =$D47*I47 -> 0 | K47: =E47+G47+I47 -> 900000 | L47: =F47+H47+J47 -> 1800000
A48: 실내기(4-WAY) | B48: 냉방기준 6,000W | C48: 대 | D48: 3 | E48: 850000 | F48: =$D48*E48 -> 2550000 | H48: =$D48*G48 -> 0 | J48: =$D48*I48 -> 0 | K48: =E48+G48+I48 -> 850000 | L48: =F48+H48+J48 -> 2550000
A49: 룸리모컨 | B49: - | C49: 대 | D49: 3 | E49: 100000 | F49: =$D49*E49 -> 300000 | H49: =$D49*G49 -> 0 | J49: =$D49*I49 -> 0 | K49: =E49+G49+I49 -> 100000 | L49: =F49+H49+J49 -> 300000
A50: 기존 실내기 철거 | B50: - | C50: 대 | D50: 3 | E50: 50000 | F50: =$D50*E50 -> 150000 | H50: =$D50*G50 -> 0 | J50: =$D50*I50 -> 0 | K50: =E50+G50+I50 -> 50000 | L50: =F50+H50+J50 -> 150000
A51: 냉매배관(배관+보온재) | B51: - | C51: M | D51: 20 | E51: 25000 | F51: =$D51*E51 -> 500000 | H51: =$D51*G51 -> 0 | J51: =$D51*I51 -> 0 | K51: =E51+G51+I51 -> 25000 | L51: =F51+H51+J51 -> 500000
A52: 드레인관(배관+보온재) | B52: - | C52: M | D52: 20 | E52: 5000 | F52: =$D52*E52 -> 100000 | H52: =$D52*G52 -> 0 | J52: =$D52*I52 -> 0 | K52: =E52+G52+I52 -> 5000 | L52: =F52+H52+J52 -> 100000
A53: 분지관 | B53: - | C53: EA | D53: 4 | E53: 100000 | F53: =$D53*E53 -> 400000 | H53: =$D53*G53 -> 0 | J53: =$D53*I53 -> 0 | K53: =E53+G53+I53 -> 100000 | L53: =F53+H53+J53 -> 400000
A54: 냉매 | B54: R-410 | C54: KG | D54: 10 | E54: 21500 | F54: =$D54*E54 -> 215000 | H54: =$D54*G54 -> 0 | J54: =$D54*I54 -> 0 | K54: =E54+G54+I54 -> 21500 | L54: =F54+H54+J54 -> 215000
A55: 전원선, 통신선 | B55: - | C55: M | D55: 15 | E55: 3000 | F55: =$D55*E55 -> 45000 | H55: =$D55*G55 -> 0 | J55: =$D55*I55 -> 0 | K55: =E55+G55+I55 -> 3000 | L55: =F55+H55+J55 -> 45000
A56: 16실 제어 컨트롤러 | B56: - | C56: 식 | D56: 1 | E56: 0 | F56: =$D56*E56 -> 0 | H56: =$D56*G56 -> 0 | I56: 200000 | J56: =$D56*I56 -> 200000 | K56: =E56+G56+I56 -> 200000 | L56: =F56+H56+J56 -> 200000
A57: 잡재료비 | B57: - | C57: 식 | D57: 1 | E57: 22550 | F57: =$D57*E57 -> 22550 | H57: =$D57*G57 -> 0 | J57: =$D57*I57 -> 0 | K57: =E57+G57+I57 -> 22550 | L57: =F57+H57+J57 -> 22550
A58: 나. 노무비
A59: 배관공 | B59: - | C59: 인 | D59: 3 | F59: =$D59*E59 -> 0 | G59: 243168 | H59: =$D59*G59 -> 729504 | J59: =$D59*I59 -> 0 | K59: =E59+G59+I59 -> 243168 | L59: =F59+H59+J59 -> 729504
A60: 용접공 | B60: - | C60: 인 | D60: 2 | F60: =$D60*E60 -> 0 | G60: 267021 | H60: =$D60*G60 -> 534042 | J60: =$D60*I60 -> 0 | K60: =E60+G60+I60 -> 267021 | L60: =F60+H60+J60 -> 534042
A61: 보통인부 | B61: - | C61: 인 | D61: 3 | F61: =$D61*E61 -> 0 | G61: 165545 | H61: =$D61*G61 -> 496635 | J61: =$D61*I61 -> 0 | K61: =E61+G61+I61 -> 165545 | L61: =F61+H61+J61 -> 496635
A62: 공구손료 | B62: - | C62: 식 | D62: 1 | F62: =$D62*E62 -> 0 | G62: 37906.38 | H62: =$D62*G62 -> 37906.38 | J62: =$D62*I62 -> 0 | K62: =E62+G62+I62 -> 37906.38 | L62: =F62+H62+J62 -> 37906.38
A72: 합 계 | F72: =F5+F45 -> 10551824 | H72: =H5+H45 -> 3424540.4 | J72: =J5+J45 -> 200000 | L72: =L5+L45 -> 14176364 | O72: =SUM(F72:J72) -> 14176364 | P72: =IF(L72=O72,"O.K","N.G…!!!") -> O.K | Q72: 데크: | R72: =SUM(#REF!,#REF!,#REF!) -> #REF!
